Workbook

Sheet Athletes
A1: Athlete's name | B1: ID number | C1: Date of birth | D1: Health insurer (EPS) | E1: Category | F1: Venue | G1: Joining date | H1: Guardian · name | I1: Guardian · ID number | J1: Guardian · mobile | K1: Guardian · email | L1: Package (sessions) | M1: Package price | N1: Months overdue | O1: Jan · amount paid | P1: Jan · payment date | Q1: Jan · status | R1: Feb · amount paid | S1: Feb · payment date | T1: Feb · status | U1: Mar · amount paid | V1: Mar · payment date | W1: Mar · status | X1: Apr · amount paid | Y1: Apr · payment date | Z1: Apr · status | AA1: May · amount paid | AB1: May · payment date | AC1: May · status | AD1: Jun · amount paid | AE1: Jun · payment date | AF1: Jun · status | AG1: Jul · amount paid | AH1: Jul · payment date | AI1: Jul · status | AJ1: Aug · amount paid | AK1: Aug · payment date | AL1: Aug · status | AM1: Sep · amount paid | AN1: Sep · payment date | AO1: Sep · status | AP1: Oct · amount paid | AQ1: Oct · payment date | AR1: Oct · status | AS1: Nov · amount paid | AT1: Nov · payment date | AU1: Nov · status | AV1: Dec · amount paid | AW1: Dec · payment date | AX1: Dec · status
A2: Ana Example One | B2: 1000000001 | C2: 41649 | E2: U12 | F2: Main venue | G2: 46037 | H2: Rosa Example | J2: 3000000010 | L2: 12 | M2: =IF($A2="","",IFERROR(VLOOKUP($L2,Settings!$A$9:$B$14,2,FALSE),0)) | N2: =IF($A2="","",IF(Q2="Overdue",1,0)+IF(T2="Overdue",1,0)+IF(W2="Overdue",1,0)+IF(Z2="Overdue",1,0)+IF(AC2="Overdue",1,0)+IF(AF2="Overdue",1,0)+IF(AI2="Overdue",1,0)+IF(AL2="Overdue",1,0)+IF(AO2="Overdue",1,0)+IF(AR2="Overdue",1,0)+IF(AU2="Overdue",1,0)+IF(AX2="Overdue",1,0)) | O2: 120000 | P2: 46027 | Q2: =IF(OR($A2="",Settings!$B$3=""),"",IF(DATE(Settings!$B$3,1,1)>TODAY(),"",IF(SUM(O2)>0,IF($M2=0,"",IF(O2>=$M2+IF(AND(ISNUMBER(P2),P2>DATE(Settings!$B$3,1,Settings!$B$4)),ROUND($M2*Settings!$B$5/100,0),0),"Up to date",IF(TODAY()>DATE(Settings!$B$3,1,Settings!$B$4),"Overdue","Partial payment"))),IF(TODAY()>DATE(Settings!$B$3,1,Settings!$B$4),"Overdue","No package")))) | R2: 120000 | S2: 46058 | T2: =IF(OR($A2="",Settings!$B$3=""),"",IF(DATE(Settings!$B$3,2,1)>TODAY(),"",IF(SUM(R2)>0,IF($M2=0,"",IF(R2>=$M2+IF(AND(ISNUMBER(S2),S2>DATE(Settings!$B$3,2,Settings!$B$4)),ROUND($M2*Settings!$B$5/100,0),0),"Up to date",IF(TODAY()>DATE(Settings!$B$3,2,Settings!$B$4),"Overdue","Partial payment"))),IF(TODAY()>DATE(Settings!$B$3,2,Settings!$B$4),"Overdue","No package")))) | U2: 120000 | V2: 46086 | W2: =IF(OR($A2="",Settings!$B$3=""),"",IF(DATE(Settings!$B$3,3,1)>TODAY(),"",IF(SUM(U2)>0,IF($M2=0,"",IF(U2>=$M2+IF(AND(ISNUMBER(V2),V2>DATE(Settings!$B$3,3,Settings!$B$4)),ROUND($M2*Settings!$B$5/100,0),0),"Up to date",IF(TODAY()>DATE(Settings!$B$3,3,Settings!$B$4),"Overdue","Partial payment"))),IF(TODAY()>DATE(Settings!$B$3,3,Settings!$B$4),"Overdue","No package")))) | X2: 120000 | Y2: 46117 | Z2: =IF(OR($A2="",Settings!$B$3=""),"",IF(DATE(Settings!$B$3,4,1)>TODAY(),"",IF(SUM(X2)>0,IF($M2=0,"",IF(X2>=$M2+IF(AND(ISNUMBER(Y2),Y2>DATE(Settings!$B$3,4,Settings!$B$4)),ROUND($M2*Settings!$B$5/100,0),0),"Up to date",IF(TODAY()>DATE(Settings!$B$3,4,Settings!$B$4),"Overdue","Partial payment"))),IF(TODAY()>DATE(Settings!$B$3,4,Settings!$B$4),"Overdue","No package")))) | AA2: 120000 | AB2: 46147 | AC2: =IF(OR($A2="",Settings!$B$3=""),"",IF(DATE(Settings!$B$3,5,1)>TODAY(),"",IF(SUM(AA2)>0,IF($M2=0,"",IF(AA2>=$M2+IF(AND(ISNUMBER(AB2),AB2>DATE(Settings!$B$3,5,Settings!$B$4)),ROUND($M2*Settings!$B$5/100,0),0),"Up to date",IF(TODAY()>DATE(Settings!$B$3,5,Settings!$B$4),"Overdue","Partial payment"))),IF(TODAY()>DATE(Settings!$B$3,5,Settings!$B$4),"Overdue","No package")))) | AD2: 120000 | AE2: 46178 | AF2: =IF(OR($A2="",Settings!$B$3=""),"",IF(DATE(Settings!$B$3,6,1)>TODAY(),"",IF(SUM(AD2)>0,IF($M2=0,"",IF(AD2>=$M2+IF(AND(ISNUMBER(AE2),AE2>DATE(Settings!$B$3,6,Settings!$B$4)),ROUND($M2*Settings!$B$5/100,0),0),"Up to date",IF(TODAY()>DATE(Settings!$B$3,6,Settings!$B$4),"Overdue","Partial payment"))),IF(TODAY()>DATE(Settings!$B$3,6,Settings!$B$4),"Overdue","No package")))) | AG2: 120000 | AH2: 46208 | AI2: =IF(OR($A2="",Settings!$B$3=""),"",IF(DATE(Settings!$B$3,7,1)>TODAY(),"",IF(SUM(AG2)>0,IF($M2=0,"",IF(AG2>=$M2+IF(AND(ISNUMBER(AH2),AH2>DATE(Settings!$B$3,7,Settings!$B$4)),ROUND($M2*Settings!$B$5/100,0),0),"Up to date",IF(TODAY()>DATE(Settings!$B$3,7,Settings!$B$4),"Overdue","Partial payment"))),IF(TODAY()>DATE(Settings!$B$3,7,Settings!$B$4),"Overdue","No package")))) | AJ2: 120000 | AK2: 46239 | AL2: =IF(OR($A2="",Settings!$B$3=""),"",IF(DATE(Settings!$B$3,8,1)>TODAY(),"",IF(SUM(AJ2)>0,IF($M2=0,"",IF(AJ2>=$M2+IF(AND(ISNUMBER(AK2),AK2>DATE(Settings!$B$3,8,Settings!$B$4)),ROUND($M2*Settings!$B$5/100,0),0),"Up to date",IF(TODAY()>DATE(Settings!$B$3,8,Settings!$B$4),"Overdue","Partial payment"))),IF(TODAY()>DATE(Settings!$B$3,8,Settings!$B$4),"Overdue","No package")))) | AM2: 120000 | AN2: 46270 | AO2: =IF(OR($A2="",Settings!$B$3=""),"",IF(DATE(Settings!$B$3,9,1)>TODAY(),"",IF(SUM(AM2)>0,IF($M2=0,"",IF(AM2>=$M2+IF(AND(ISNUMBER(AN2),AN2>DATE(Settings!$B$3,9,Settings!$B$4)),ROUND($M2*Settings!$B$5/100,0),0),"Up to date",IF(TODAY()>DATE(Settings!$B$3,9,Settings!$B$4),"Overdue","Partial payment"))),IF(TODAY()>DATE(Settings!$B$3,9,Settings!$B$4),"Overdue","No package")))) | AP2: 120000 | AQ2: 46300 | AR2: =IF(OR($A2="",Settings!$B$3=""),"",IF(DATE(Settings!$B$3,10,1)>TODAY(),"",IF(SUM(AP2)>0,IF($M2=0,"",IF(AP2>=$M2+IF(AND(ISNUMBER(AQ2),AQ2>DATE(Settings!$B$3,10,Settings!$B$4)),ROUND($M2*Settings!$B$5/100,0),0),"Up to date",IF(TODAY()>DATE(Settings!$B$3,10,Settings!$B$4),"Overdue","Partial payment"))),IF(TODAY()>DATE(Settings!$B$3,10,Settings!$B$4),"Overdue","No package")))) | AU2: =IF(OR($A2="",Settings!$B$3=""),"",IF(DATE(Settings!$B$3,11,1)>TODAY(),"",IF(SUM(AS2)>0,IF($M2=0,"",IF(AS2>=$M2+IF(AND(ISNUMBER(AT2),AT2>DATE(Settings!$B$3,11,Settings!$B$4)),ROUND($M2*Settings!$B$5/100,0),0),"Up to date",IF(TODAY()>DATE(Settings!$B$3,11,Settings!$B$4),"Overdue","Partial payment"))),IF(TODAY()>DATE(Settings!$B$3,11,Settings!$B$4),"Overdue","No package")))) | AX2: =IF(OR($A2="",Settings!$B$3=""),"",IF(DATE(Settings!$B$3,12,1)>TODAY(),"",IF(SUM(AV2)>0,IF($M2=0,"",IF(AV2>=$M2+IF(AND(ISNUMBER(AW2),AW2>DATE(Settings!$B$3,12,Settings!$B$4)),ROUND($M2*Settings!$B$5/100,0),0),"Up to date",IF(TODAY()>DATE(Settings!$B$3,12,Settings!$B$4),"Overdue","Partial payment"))),IF(TODAY()>DATE(Settings!$B$3,12,Settings!$B$4),"Overdue","No package"))))
A3: Bruno Example Two | B3: 1000000002 | C3: 41681 | E3: U12 | F3: Main venue | G3: 46037 | H3: Luis Example | J3: 3000000011 | L3: 12 | M3: =IF($A3="","",IFERROR(VLOOKUP($L3,Settings!$A$9:$B$14,2,FALSE),0)) | N3: =IF($A3="","",IF(Q3="Overdue",1,0)+IF(T3="Overdue",1,0)+IF(W3="Overdue",1,0)+IF(Z3="Overdue",1,0)+IF(AC3="Overdue",1,0)+IF(AF3="Overdue",1,0)+IF(AI3="Overdue",1,0)+IF(AL3="Overdue",1,0)+IF(AO3="Overdue",1,0)+IF(AR3="Overdue",1,0)+IF(AU3="Overdue",1,0)+IF(AX3="Overdue",1,0)) | O3: 132000 | P3: 46037 | Q3: =IF(OR($A3="",Settings!$B$3=""),"",IF(DATE(Settings!$B$3,1,1)>TODAY(),"",IF(SUM(O3)>0,IF($M3=0,"",IF(O3>=$M3+IF(AND(ISNUMBER(P3),P3>DATE(Settings!$B$3,1,Settings!$B$4)),ROUND($M3*Settings!$B$5/100,0),0),"Up to date",IF(TODAY()>DATE(Settings!$B$3,1,Settings!$B$4),"Overdue","Partial payment"))),IF(TODAY()>DATE(Settings!$B$3,1,Settings!$B$4),"Overdue","No package")))) | R3: 132000 | S3: 46068 | T3: =IF(OR($A3="",Settings!$B$3=""),"",IF(DATE(Settings!$B$3,2,1)>TODAY(),"",IF(SUM(R3)>0,IF($M3=0,"",IF(R3>=$M3+IF(AND(ISNUMBER(S3),S3>DATE(Settings!$B$3,2,Settings!$B$4)),ROUND($M3*Settings!$B$5/100,0),0),"Up to date",IF(TODAY()>DATE(Settings!$B$3,2,Settings!$B$4),"Overdue","Partial payment"))),IF(TODAY()>DATE(Settings!$B$3,2,Settings!$B$4),"Overdue","No package")))) | U3: 132000 | V3: 46096 | W3: =IF(OR($A3="",Settings!$B$3=""),"",IF(DATE(Settings!$B$3,3,1)>TODAY(),"",IF(SUM(U3)>0,IF($M3=0,"",IF(U3>=$M3+IF(AND(ISNUMBER(V3),V3>DATE(Settings!$B$3,3,Settings!$B$4)),ROUND($M3*Settings!$B$5/100,0),0),"Up to date",IF(TODAY()>DATE(Settings!$B$3,3,Settings!$B$4),"Overdue","Partial payment"))),IF(TODAY()>DATE(Settings!$B$3,3,Settings!$B$4),"Overdue","No package")))) | X3: 132000 | Y3: 46127 | Z3: =IF(OR($A3="",Settings!$B$3=""),"",IF(DATE(Settings!$B$3,4,1)>TODAY(),"",IF(SUM(X3)>0,IF($M3=0,"",IF(X3>=$M3+IF(AND(ISNUMBER(Y3),Y3>DATE(Settings!$B$3,4,Settings!$B$4)),ROUND($M3*Settings!$B$5/100,0),0),"Up to date",IF(TODAY()>DATE(Settings!$B$3,4,Settings!$B$4),"Overdue","Partial payment"))),IF(TODAY()>DATE(Settings!$B$3,4,Settings!$B$4),"Overdue","No package")))) | AA3: 132000 | AB3: 46157 | AC3: =IF(OR($A3="",Settings!$B$3=""),"",IF(DATE(Settings!$B$3,5,1)>TODAY(),"",IF(SUM(AA3)>0,IF($M3=0,"",IF(AA3>=$M3+IF(AND(ISNUMBER(AB3),AB3>DATE(Settings!$B$3,5,Settings!$B$4)),ROUND($M3*Settings!$B$5/100,0),0),"Up to date",IF(TODAY()>DATE(Settings!$B$3,5,Settings!$B$4),"Overdue","Partial payment"))),IF(TODAY()>DATE(Settings!$B$3,5,Settings!$B$4),"Overdue","No package")))) | AD3: 132000 | AE3: 46188 | AF3: =IF(OR($A3="",Settings!$B$3=""),"",IF(DATE(Settings!$B$3,6,1)>TODAY(),"",IF(SUM(AD3)>0,IF($M3=0,"",IF(AD3>=$M3+IF(AND(ISNUMBER(AE3),AE3>DATE(Settings!$B$3,6,Settings!$B$4)),ROUND($M3*Settings!$B$5/100,0),0),"Up to date",IF(TODAY()>DATE(Settings!$B$3,6,Settings!$B$4),"Overdue","Partial payment"))),IF(TODAY()>DATE(Settings!$B$3,6,Settings!$B$4),"Overdue","No package")))) | AG3: 132000 | AH3: 46218 | AI3: =IF(OR($A3="",Settings!$B$3=""),"",IF(DATE(Settings!$B$3,7,1)>TODAY(),"",IF(SUM(AG3)>0,IF($M3=0,"",IF(AG3>=$M3+IF(AND(ISNUMBER(AH3),AH3>DATE(Settings!$B$3,7,Settings!$B$4)),ROUND($M3*Settings!$B$5/100,0),0),"Up to date",IF(TODAY()>DATE(Settings!$B$3,7,Settings!$B$4),"Overdue","Partial payment"))),IF(TODAY()>DATE(Settings!$B$3,7,Settings!$B$4),"Overdue","No package")))) | AJ3: 132000 | AK3: 46249 | AL3: =IF(OR($A3="",Settings!$B$3=""),"",IF(DATE(Settings!$B$3,8,1)>TODAY(),"",IF(SUM(AJ3)>0,IF($M3=0,"",IF(AJ3>=$M3+IF(AND(ISNUMBER(AK3),AK3>DATE(Settings!$B$3,8,Settings!$B$4)),ROUND($M3*Settings!$B$5/100,0),0),"Up to date",IF(TODAY()>DATE(Settings!$B$3,8,Settings!$B$4),"Overdue","Partial payment"))),IF(TODAY()>DATE(Settings!$B$3,8,Settings!$B$4),"Overdue","No package")))) | AM3: 132000 | AN3: 46280 | AO3: =IF(OR($A3="",Settings!$B$3=""),"",IF(DATE(Settings!$B$3,9,1)>TODAY(),"",IF(SUM(AM3)>0,IF($M3=0,"",IF(AM3>=$M3+IF(AND(ISNUMBER(AN3),AN3>DATE(Settings!$B$3,9,Settings!$B$4)),ROUND($M3*Settings!$B$5/100,0),0),"Up to date",IF(TODAY()>DATE(Settings!$B$3,9,Settings!$B$4),"Overdue","Partial payment"))),IF(TODAY()>DATE(Settings!$B$3,9,Settings!$B$4),"Overdue","No package")))) | AP3: 132000 | AQ3: 46310 | AR3: =IF(OR($A3="",Settings!$B$3=""),"",IF(DATE(Settings!$B$3,10,1)>TODAY(),"",IF(SUM(AP3)>0,IF($M3=0,"",IF(AP3>=$M3+IF(AND(ISNUMBER(AQ3),AQ3>DATE(Settings!$B$3,10,Settings!$B$4)),ROUND($M3*Settings!$B$5/100,0),0),"Up to date",IF(TODAY()>DATE(Settings!$B$3,10,Settings!$B$4),"Overdue","Partial payment"))),IF(TODAY()>DATE(Settings!$B$3,10,Settings!$B$4),"Overdue","No package")))) | AU3: =IF(OR($A3="",Settings!$B$3=""),"",IF(DATE(Settings!$B$3,11,1)>TODAY(),"",IF(SUM(AS3)>0,IF($M3=0,"",IF(AS3>=$M3+IF(AND(ISNUMBER(AT3),AT3>DATE(Settings!$B$3,11,Settings!$B$4)),ROUND($M3*Settings!$B$5/100,0),0),"Up to date",IF(TODAY()>DATE(Settings!$B$3,11,Settings!$B$4),"Overdue","Partial payment"))),IF(TODAY()>DATE(Settings!$B$3,11,Settings!$B$4),"Overdue","No package")))) | AX3: =IF(OR($A3="",Settings!$B$3=""),"",IF(DATE(Settings!$B$3,12,1)>TODAY(),"",IF(SUM(AV3)>0,IF($M3=0,"",IF(AV3>=$M3+IF(AND(ISNUMBER(AW3),AW3>DATE(Settings!$B$3,12,Settings!$B$4)),ROUND($M3*Settings!$B$5/100,0),0),"Up to date",IF(TODAY()>DATE(Settings!$B$3,12,Settings!$B$4),"Overdue","Partial payment"))),IF(TODAY()>DATE(Settings!$B$3,12,Settings!$B$4),"Overdue","No package"))))
A4: Carla Example Three | B4: 1000000003 | C4: 41710 | E4: U12 | F4: Main venue | G4: 46037 | H4: Marta Example | J4: 3000000012 | L4: 12 | M4: =IF($A4="","",IFERROR(VLOOKUP($L4,Settings!$A$9:$B$14,2,FALSE),0)) | N4: =IF($A4="","",IF(Q4="Overdue",1,0)+IF(T4="Overdue",1,0)+IF(W4="Overdue",1,0)+IF(Z4="Overdue",1,0)+IF(AC4="Overdue",1,0)+IF(AF4="Overdue",1,0)+IF(AI4="Overdue",1,0)+IF(AL4="Overdue",1,0)+IF(AO4="Overdue",1,0)+IF(AR4="Overdue",1,0)+IF(AU4="Overdue",1,0)+IF(AX4="Overdue",1,0)) | O4: 120000 | P4: 46025 | Q4: =IF(OR($A4="",Settings!$B$3=""),"",IF(DATE(Settings!$B$3,1,1)>TODAY(),"",IF(SUM(O4)>0,IF($M4=0,"",IF(O4>=$M4+IF(AND(ISNUMBER(P4),P4>DATE(Settings!$B$3,1,Settings!$B$4)),ROUND($M4*Settings!$B$5/100,0),0),"Up to date",IF(TODAY()>DATE(Settings!$B$3,1,Settings!$B$4),"Overdue","Partial payment"))),IF(TODAY()>DATE(Settings!$B$3,1,Settings!$B$4),"Overdue","No package")))) | R4: 120000 | S4: 46073 | T4: =IF(OR($A4="",Settings!$B$3=""),"",IF(DATE(Settings!$B$3,2,1)>TODAY(),"",IF(SUM(R4)>0,IF($M4=0,"",IF(R4>=$M4+IF(AND(ISNUMBER(S4),S4>DATE(Settings!$B$3,2,Settings!$B$4)),ROUND($M4*Settings!$B$5/100,0),0),"Up to date",IF(TODAY()>DATE(Settings!$B$3,2,Settings!$B$4),"Overdue","Partial payment"))),IF(TODAY()>DATE(Settings!$B$3,2,Settings!$B$4),"Overdue","No package")))) | U4: 120000 | V4: 46085 | W4: =IF(OR($A4="",Settings!$B$3=""),"",IF(DATE(Settings!$B$3,3,1)>TODAY(),"",IF(SUM(U4)>0,IF($M4=0,"",IF(U4>=$M4+IF(AND(ISNUMBER(V4),V4>DATE(Settings!$B$3,3,Settings!$B$4)),ROUND($M4*Settings!$B$5/100,0),0),"Up to date",IF(TODAY()>DATE(Settings!$B$3,3,Settings!$B$4),"Overdue","Partial payment"))),IF(TODAY()>DATE(Settings!$B$3,3,Settings!$B$4),"Overdue","No package")))) | X4: 120000 | Y4: 46137 | Z4: =IF(OR($A4="",Settings!$B$3=""),"",IF(DATE(Settings!$B$3,4,1)>TODAY(),"",IF(SUM(X4)>0,IF($M4=0,"",IF(X4>=$M4+IF(AND(ISNUMBER(Y4),Y4>DATE(Settings!$B$3,4,Settings!$B$4)),ROUND($M4*Settings!$B$5/100,0),0),"Up to date",IF(TODAY()>DATE(Settings!$B$3,4,Settings!$B$4),"Overdue","Partial payment"))),IF(TODAY()>DATE(Settings!$B$3,4,Settings!$B$4),"Overdue","No package")))) | AC4: =IF(OR($A4="",Settings!$B$3=""),"",IF(DATE(Settings!$B$3,5,1)>TODAY(),"",IF(SUM(AA4)>0,IF($M4=0,"",IF(AA4>=$M4+IF(AND(ISNUMBER(AB4),AB4>DATE(Settings!$B$3,5,Settings!$B$4)),ROUND($M4*Settings!$B$5/100,0),0),"Up to date",IF(TODAY()>DATE(Settings!$B$3,5,Settings!$B$4),"Overdue","Partial payment"))),IF(TODAY()>DATE(Settings!$B$3,5,Settings!$B$4),"Overdue","No package")))) | AF4: =IF(OR($A4="",Settings!$B$3=""),"",IF(DATE(Settings!$B$3,6,1)>TODAY(),"",IF(SUM(AD4)>0,IF($M4=0,"",IF(AD4>=$M4+IF(AND(ISNUMBER(AE4),AE4>DATE(Settings!$B$3,6,Settings!$B$4)),ROUND($M4*Settings!$B$5/100,0),0),"Up to date",IF(TODAY()>DATE(Settings!$B$3,6,Settings!$B$4),"Overdue","Partial payment"))),IF(TODAY()>DATE(Settings!$B$3,6,Settings!$B$4),"Overdue","No package")))) | AI4: =IF(OR($A4="",Settings!$B$3=""),"",IF(DATE(Settings!$B$3,7,1)>TODAY(),"",IF(SUM(AG4)>0,IF($M4=0,"",IF(AG4>=$M4+IF(AND(ISNUMBER(AH4),AH4>DATE(Settings!$B$3,7,Settings!$B$4)),ROUND($M4*Settings!$B$5/100,0),0),"Up to date",IF(TODAY()>DATE(Settings!$B$3,7,Settings!$B$4),"Overdue","Partial payment"))),IF(TODAY()>DATE(Settings!$B$3,7,Settings!$B$4),"Overdue","No package")))) | AL4: =IF(OR($A4="",Settings!$B$3=""),"",IF(DATE(Settings!$B$3,8,1)>TODAY(),"",IF(SUM(AJ4)>0,IF($M4=0,"",IF(AJ4>=$M4+IF(AND(ISNUMBER(AK4),AK4>DATE(Settings!$B$3,8,Settings!$B$4)),ROUND($M4*Settings!$B$5/100,0),0),"Up to date",IF(TODAY()>DATE(Settings!$B$3,8,Settings!$B$4),"Overdue","Partial payment"))),IF(TODAY()>DATE(Settings!$B$3,8,Settings!$B$4),"Overdue","No package")))) | AO4: =IF(OR($A4="",Settings!$B$3=""),"",IF(DATE(Settings!$B$3,9,1)>TODAY(),"",IF(SUM(AM4)>0,IF($M4=0,"",IF(AM4>=$M4+IF(AND(ISNUMBER(AN4),AN4>DATE(Settings!$B$3,9,Settings!$B$4)),ROUND($M4*Settings!$B$5/100,0),0),"Up to date",IF(TODAY()>DATE(Settings!$B$3,9,Settings!$B$4),"Overdue","Partial payment"))),IF(TODAY()>DATE(Settings!$B$3,9,Settings!$B$4),"Overdue","No package")))) | AR4: =IF(OR($A4="",Settings!$B$3=""),"",IF(DATE(Settings!$B$3,10,1)>TODAY(),"",IF(SUM(AP4)>0,IF($M4=0,"",IF(AP4>=$M4+IF(AND(ISNUMBER(AQ4),AQ4>DATE(Settings!$B$3,10,Settings!$B$4)),ROUND($M4*Settings!$B$5/100,0),0),"Up to date",IF(TODAY()>DATE(Settings!$B$3,10,Settings!$B$4),"Overdue","Partial payment"))),IF(TODAY()>DATE(Settings!$B$3,10,Settings!$B$4),"Overdue","No package")))) | AU4: =IF(OR($A4="",Settings!$B$3=""),"",IF(DATE(Settings!$B$3,11,1)>TODAY(),"",IF(SUM(AS4)>0,IF($M4=0,"",IF(AS4>=$M4+IF(AND(ISNUMBER(AT4),AT4>DATE(Settings!$B$3,11,Settings!$B$4)),ROUND($M4*Settings!$B$5/100,0),0),"Up to date",IF(TODAY()>DATE(Settings!$B$3,11,Settings!$B$4),"Overdue","Partial payment"))),IF(TODAY()>DATE(Settings!$B$3,11,Settings!$B$4),"Overdue","No package")))) | AX4: =IF(OR($A4="",Settings!$B$3=""),"",IF(DATE(Settings!$B$3,12,1)>TODAY(),"",IF(SUM(AV4)>0,IF($M4=0,"",IF(AV4>=$M4+IF(AND(ISNUMBER(AW4),AW4>DATE(Settings!$B$3,12,Settings!$B$4)),ROUND($M4*Settings!$B$5/100,0),0),"Up to date",IF(TODAY()>DATE(Settings!$B$3,12,Settings!$B$4),"Overdue","Partial payment"))),IF(TODAY()>DATE(Settings!$B$3,12,Settings!$B$4),"Overdue","No package"))))
A5: Diego Example Four | B5: 1000000004 | C5: 41742 | E5: U12 | F5: Main venue | G5: 46037 | H5: Pedro Example | J5: 3000000013 | L5: 12 | M5: =IF($A5="","",IFERROR(VLOOKUP($L5,Settings!$A$9:$B$14,2,FALSE),0)) | N5: =IF($A5="","",IF(Q5="Overdue",1,0)+IF(T5="Overdue",1,0)+IF(W5="Overdue",1,0)+IF(Z5="Overdue",1,0)+IF(AC5="Overdue",1,0)+IF(AF5="Overdue",1,0)+IF(AI5="Overdue",1,0)+IF(AL5="Overdue",1,0)+IF(AO5="Overdue",1,0)+IF(AR5="Overdue",1,0)+IF(AU5="Overdue",1,0)+IF(AX5="Overdue",1,0)) | O5: 120000 | P5: 46030 | Q5: =IF(OR($A5="",Settings!$B$3=""),"",IF(DATE(Settings!$B$3,1,1)>TODAY(),"",IF(SUM(O5)>0,IF($M5=0,"",IF(O5>=$M5+IF(AND(ISNUMBER(P5),P5>DATE(Settings!$B$3,1,Settings!$B$4)),ROUND($M5*Settings!$B$5/100,0),0),"Up to date",IF(TODAY()>DATE(Settings!$B$3,1,Settings!$B$4),"Overdue","Partial payment"))),IF(TODAY()>DATE(Settings!$B$3,1,Settings!$B$4),"Overdue","No package")))) | R5: 60000 | S5: 46059 | T5: =IF(OR($A5="",Settings!$B$3=""),"",IF(DATE(Settings!$B$3,2,1)>TODAY(),"",IF(SUM(R5)>0,IF($M5=0,"",IF(R5>=$M5+IF(AND(ISNUMBER(S5),S5>DATE(Settings!$B$3,2,Settings!$B$4)),ROUND($M5*Settings!$B$5/100,0),0),"Up to date",IF(TODAY()>DATE(Settings!$B$3,2,Settings!$B$4),"Overdue","Partial payment"))),IF(TODAY()>DATE(Settings!$B$3,2,Settings!$B$4),"Overdue","No package")))) | U5: 120000 | V5: 46090 | W5: =IF(OR($A5="",Settings!$B$3=""),"",IF(DATE(Settings!$B$3,3,1)>TODAY(),"",IF(SUM(U5)>0,IF($M5=0,"",IF(U5>=$M5+IF(AND(ISNUMBER(V5),V5>DATE(Settings!$B$3,3,Settings!$B$4)),ROUND($M5*Settings!$B$5/100,0),0),"Up to date",IF(TODAY()>DATE(Settings!$B$3,3,Settings!$B$4),"Overdue","Partial payment"))),IF(TODAY()>DATE(Settings!$B$3,3,Settings!$B$4),"Overdue","No package")))) | Z5: =IF(OR($A5="",Settings!$B$3=""),"",IF(DATE(Settings!$B$3,4,1)>TODAY(),"",IF(SUM(X5)>0,IF($M5=0,"",IF(X5>=$M5+IF(AND(ISNUMBER(Y5),Y5>DATE(Settings!$B$3,4,Settings!$B$4)),ROUND($M5*Settings!$B$5/100,0),0),"Up to date",IF(TODAY()>DATE(Settings!$B$3,4,Settings!$B$4),"Overdue","Partial payment"))),IF(TODAY()>DATE(Settings!$B$3,4,Settings!$B$4),"Overdue","No package")))) | AC5: =IF(OR($A5="",Settings!$B$3=""),"",IF(DATE(Settings!$B$3,5,1)>TODAY(),"",IF(SUM(AA5)>0,IF($M5=0,"",IF(AA5>=$M5+IF(AND(ISNUMBER(AB5),AB5>DATE(Settings!$B$3,5,Settings!$B$4)),ROUND($M5*Settings!$B$5/100,0),0),"Up to date",IF(TODAY()>DATE(Settings!$B$3,5,Settings!$B$4),"Overdue","Partial payment"))),IF(TODAY()>DATE(Settings!$B$3,5,Settings!$B$4),"Overdue","No package")))) | AF5: =IF(OR($A5="",Settings!$B$3=""),"",IF(DATE(Settings!$B$3,6,1)>TODAY(),"",IF(SUM(AD5)>0,IF($M5=0,"",IF(AD5>=$M5+IF(AND(ISNUMBER(AE5),AE5>DATE(Settings!$B$3,6,Settings!$B$4)),ROUND($M5*Settings!$B$5/100,0),0),"Up to date",IF(TODAY()>DATE(Settings!$B$3,6,Settings!$B$4),"Overdue","Partial payment"))),IF(TODAY()>DATE(Settings!$B$3,6,Settings!$B$4),"Overdue","No package")))) | AI5: =IF(OR($A5="",Settings!$B$3=""),"",IF(DATE(Settings!$B$3,7,1)>TODAY(),"",IF(SUM(AG5)>0,IF($M5=0,"",IF(AG5>=$M5+IF(AND(ISNUMBER(AH5),AH5>DATE(Settings!$B$3,7,Settings!$B$4)),ROUND($M5*Settings!$B$5/100,0),0),"Up to date",IF(TODAY()>DATE(Settings!$B$3,7,Settings!$B$4),"Overdue","Partial payment"))),IF(TODAY()>DATE(Settings!$B$3,7,Settings!$B$4),"Overdue","No package")))) | AL5: =IF(OR($A5="",Settings!$B$3=""),"",IF(DATE(Settings!$B$3,8,1)>TODAY(),"",IF(SUM(AJ5)>0,IF($M5=0,"",IF(AJ5>=$M5+IF(AND(ISNUMBER(AK5),AK5>DATE(Settings!$B$3,8,Settings!$B$4)),ROUND($M5*Settings!$B$5/100,0),0),"Up to date",IF(TODAY()>DATE(Settings!$B$3,8,Settings!$B$4),"Overdue","Partial payment"))),IF(TODAY()>DATE(Settings!$B$3,8,Settings!$B$4),"Overdue","No package")))) | AO5: =IF(OR($A5="",Settings!$B$3=""),"",IF(DATE(Settings!$B$3,9,1)>TODAY(),"",IF(SUM(AM5)>0,IF($M5=0,"",IF(AM5>=$M5+IF(AND(ISNUMBER(AN5),AN5>DATE(Settings!$B$3,9,Settings!$B$4)),ROUND($M5*Settings!$B$5/100,0),0),"Up to date",IF(TODAY()>DATE(Settings!$B$3,9,Settings!$B$4),"Overdue","Partial payment"))),IF(TODAY()>DATE(Settings!$B$3,9,Settings!$B$4),"Overdue","No package")))) | AR5: =IF(OR($A5="",Settings!$B$3=""),"",IF(DATE(Settings!$B$3,10,1)>TODAY(),"",IF(SUM(AP5)>0,IF($M5=0,"",IF(AP5>=$M5+IF(AND(ISNUMBER(AQ5),AQ5>DATE(Settings!$B$3,10,Settings!$B$4)),ROUND($M5*Settings!$B$5/100,0),0),"Up to date",IF(TODAY()>DATE(Settings!$B$3,10,Settings!$B$4),"Overdue","Partial payment"))),IF(TODAY()>DATE(Settings!$B$3,10,Settings!$B$4),"Overdue","No package")))) | AU5: =IF(OR($A5="",Settings!$B$3=""),"",IF(DATE(Settings!$B$3,11,1)>TODAY(),"",IF(SUM(AS5)>0,IF($M5=0,"",IF(AS5>=$M5+IF(AND(ISNUMBER(AT5),AT5>DATE(Settings!$B$3,11,Settings!$B$4)),ROUND($M5*Settings!$B$5/100,0),0),"Up to date",IF(TODAY()>DATE(Settings!$B$3,11,Settings!$B$4),"Overdue","Partial payment"))),IF(TODAY()>DATE(Settings!$B$3,11,Settings!$B$4),"Overdue","No package")))) | AX5: =IF(OR($A5="",Settings!$B$3=""),"",IF(DATE(Settings!$B$3,12,1)>TODAY(),"",IF(SUM(AV5)>0,IF($M5=0,"",IF(AV5>=$M5+IF(AND(ISNUMBER(AW5),AW5>DATE(Settings!$B$3,12,Settings!$B$4)),ROUND($M5*Settings!$B$5/100,0),0),"Up to date",IF(TODAY()>DATE(Settings!$B$3,12,Settings!$B$4),"Overdue","Partial payment"))),IF(TODAY()>DATE(Settings!$B$3,12,Settings!$B$4),"Overdue","No package"))))
A6: Elena Example Five | B6: 1000000005 | C6: 41773 | E6: U12 | F6: Main venue | G6: 46037 | H6: Sofia Example | J6: 3000000014 | L6: 12 | M6: =IF($A6="","",IFERROR(VLOOKUP($L6,Settings!$A$9:$B$14,2,FALSE),0)) | N6: =IF($A6="","",IF(Q6="Overdue",1,0)+IF(T6="Overdue",1,0)+IF(W6="Overdue",1,0)+IF(Z6="Overdue",1,0)+IF(AC6="Overdue",1,0)+IF(AF6="Overdue",1,0)+IF(AI6="Overdue",1,0)+IF(AL6="Overdue",1,0)+IF(AO6="Overdue",1,0)+IF(AR6="Overdue",1,0)+IF(AU6="Overdue",1,0)+IF(AX6="Overdue",1,0)) | O6: 120000 | P6: 46029 | Q6: =IF(OR($A6="",Settings!$B$3=""),"",IF(DATE(Settings!$B$3,1,1)>TODAY(),"",IF(SUM(O6)>0,IF($M6=0,"",IF(O6>=$M6+IF(AND(ISNUMBER(P6),P6>DATE(Settings!$B$3,1,Settings!$B$4)),ROUND($M6*Settings!$B$5/100,0),0),"Up to date",IF(TODAY()>DATE(Settings!$B$3,1,Settings!$B$4),"Overdue","Partial payment"))),IF(TODAY()>DATE(Settings!$B$3,1,Settings!$B$4),"Overdue","No package")))) | R6: 120000 | S6: 46060 | T6: =IF(OR($A6="",Settings!$B$3=""),"",IF(DATE(Settings!$B$3,2,1)>TODAY(),"",IF(SUM(R6)>0,IF($M6=0,"",IF(R6>=$M6+IF(AND(ISNUMBER(S6),S6>DATE(Settings!$B$3,2,Settings!$B$4)),ROUND($M6*Settings!$B$5/100,0),0),"Up to date",IF(TODAY()>DATE(Settings!$B$3,2,Settings!$B$4),"Overdue","Partial payment"))),IF(TODAY()>DATE(Settings!$B$3,2,Settings!$B$4),"Overdue","No package")))) | U6: 120000 | V6: 46088 | W6: =IF(OR($A6="",Settings!$B$3=""),"",IF(DATE(Settings!$B$3,3,1)>TODAY(),"",IF(SUM(U6)>0,IF($M6=0,"",IF(U6>=$M6+IF(AND(ISNUMBER(V6),V6>DATE(Settings!$B$3,3,Settings!$B$4)),ROUND($M6*Settings!$B$5/100,0),0),"Up to date",IF(TODAY()>DATE(Settings!$B$3,3,Settings!$B$4),"Overdue","Partial payment"))),IF(TODAY()>DATE(Settings!$B$3,3,Settings!$B$4),"Overdue","No package")))) | X6: 120000 | Y6: 46119 | Z6: =IF(OR($A6="",Settings!$B$3=""),"",IF(DATE(Settings!$B$3,4,1)>TODAY(),"",IF(SUM(X6)>0,IF($M6=0,"",IF(X6>=$M6+IF(AND(ISNUMBER(Y6),Y6>DATE(Settings!$B$3,4,Settings!$B$4)),ROUND($M6*Settings!$B$5/100,0),0),"Up to date",IF(TODAY()>DATE(Settings!$B$3,4,Settings!$B$4),"Overdue","Partial payment"))),IF(TODAY()>DATE(Settings!$B$3,4,Settings!$B$4),"Overdue","No package")))) | AA6: 120000 | AB6: 46149 | AC6: =IF(OR($A6="",Settings!$B$3=""),"",IF(DATE(Settings!$B$3,5,1)>TODAY(),"",IF(SUM(AA6)>0,IF($M6=0,"",IF(AA6>=$M6+IF(AND(ISNUMBER(AB6),AB6>DATE(Settings!$B$3,5,Settings!$B$4)),ROUND($M6*Settings!$B$5/100,0),0),"Up to date",IF(TODAY()>DATE(Settings!$B$3,5,Settings!$B$4),"Overdue","Partial payment"))),IF(TODAY()>DATE(Settings!$B$3,5,Settings!$B$4),"Overdue","No package")))) | AD6: 120000 | AE6: 46180 | AF6: =IF(OR($A6="",Settings!$B$3=""),"",IF(DATE(Settings!$B$3,6,1)>TODAY(),"",IF(SUM(AD6)>0,IF($M6=0,"",IF(AD6>=$M6+IF(AND(ISNUMBER(AE6),AE6>DATE(Settings!$B$3,6,Settings!$B$4)),ROUND($M6*Settings!$B$5/100,0),0),"Up to date",IF(TODAY()>DATE(Settings!$B$3,6,Settings!$B$4),"Overdue","Partial payment"))),IF(TODAY()>DATE(Settings!$B$3,6,Settings!$B$4),"Overdue","No package")))) | AI6: =IF(OR($A6="",Settings!$B$3=""),"",IF(DATE(Settings!$B$3,7,1)>TODAY(),"",IF(SUM(AG6)>0,IF($M6=0,"",IF(AG6>=$M6+IF(AND(ISNUMBER(AH6),AH6>DATE(Settings!$B$3,7,Settings!$B$4)),ROUND($M6*Settings!$B$5/100,0),0),"Up to date",IF(TODAY()>DATE(Settings!$B$3,7,Settings!$B$4),"Overdue","Partial payment"))),IF(TODAY()>DATE(Settings!$B$3,7,Settings!$B$4),"Overdue","No package")))) | AL6: =IF(OR($A6="",Settings!$B$3=""),"",IF(DATE(Settings!$B$3,8,1)>TODAY(),"",IF(SUM(AJ6)>0,IF($M6=0,"",IF(AJ6>=$M6+IF(AND(ISNUMBER(AK6),AK6>DATE(Settings!$B$3,8,Settings!$B$4)),ROUND($M6*Settings!$B$5/100,0),0),"Up to date",IF(TODAY()>DATE(Settings!$B$3,8,Settings!$B$4),"Overdue","Partial payment"))),IF(TODAY()>DATE(Settings!$B$3,8,Settings!$B$4),"Overdue","No package")))) | AO6: =IF(OR($A6="",Settings!$B$3=""),"",IF(DATE(Settings!$B$3,9,1)>TODAY(),"",IF(SUM(AM6)>0,IF($M6=0,"",IF(AM6>=$M6+IF(AND(ISNUMBER(AN6),AN6>DATE(Settings!$B$3,9,Settings!$B$4)),ROUND($M6*Settings!$B$5/100,0),0),"Up to date",IF(TODAY()>DATE(Settings!$B$3,9,Settings!$B$4),"Overdue","Partial payment"))),IF(TODAY()>DATE(Settings!$B$3,9,Settings!$B$4),"Overdue","No package")))) | AR6: =IF(OR($A6="",Settings!$B$3=""),"",IF(DATE(Settings!$B$3,10,1)>TODAY(),"",IF(SUM(AP6)>0,IF($M6=0,"",IF(AP6>=$M6+IF(AND(ISNUMBER(AQ6),AQ6>DATE(Settings!$B$3,10,Settings!$B$4)),ROUND($M6*Settings!$B$5/100,0),0),"Up to date",IF(TODAY()>DATE(Settings!$B$3,10,Settings!$B$4),"Overdue","Partial payment"))),IF(TODAY()>DATE(Settings!$B$3,10,Settings!$B$4),"Overdue","No package")))) | AU6: =IF(OR($A6="",Settings!$B$3=""),"",IF(DATE(Settings!$B$3,11,1)>TODAY(),"",IF(SUM(AS6)>0,IF($M6=0,"",IF(AS6>=$M6+IF(AND(ISNUMBER(AT6),AT6>DATE(Settings!$B$3,11,Settings!$B$4)),ROUND($M6*Settings!$B$5/100,0),0),"Up to date",IF(TODAY()>DATE(Settings!$B$3,11,Settings!$B$4),"Overdue","Partial payment"))),IF(TODAY()>DATE(Settings!$B$3,11,Settings!$B$4),"Overdue","No package")))) | AX6: =IF(OR($A6="",Settings!$B$3=""),"",IF(DATE(Settings!$B$3,12,1)>TODAY(),"",IF(SUM(AV6)>0,IF($M6=0,"",IF(AV6>=$M6+IF(AND(ISNUMBER(AW6),AW6>DATE(Settings!$B$3,12,Settings!$B$4)),ROUND($M6*Settings!$B$5/100,0),0),"Up to date",IF(TODAY()>DATE(Settings!$B$3,12,Settings!$B$4),"Overdue","Partial payment"))),IF(TODAY()>DATE(Settings!$B$3,12,Settings!$B$4),"Overdue","No package"))))
M7: =IF($A7="","",IFERROR(VLOOKUP($L7,Settings!$A$9:$B$14,2,FALSE),0)) | N7: =IF($A7="","",IF(Q7="Overdue",1,0)+IF(T7="Overdue",1,0)+IF(W7="Overdue",1,0)+IF(Z7="Overdue",1,0)+IF(AC7="Overdue",1,0)+IF(AF7="Overdue",1,0)+IF(AI7="Overdue",1,0)+IF(AL7="Overdue",1,0)+IF(AO7="Overdue",1,0)+IF(AR7="Overdue",1,0)+IF(AU7="Overdue",1,0)+IF(AX7="Overdue",1,0)) | Q7: =IF(OR($A7="",Settings!$B$3=""),"",IF(DATE(Settings!$B$3,1,1)>TODAY(),"",IF(SUM(O7)>0,IF($M7=0,"",IF(O7>=$M7+IF(AND(ISNUMBER(P7),P7>DATE(Settings!$B$3,1,Settings!$B$4)),ROUND($M7*Settings!$B$5/100,0),0),"Up to date",IF(TODAY()>DATE(Settings!$B$3,1,Settings!$B$4),"Overdue","Partial payment"))),IF(TODAY()>DATE(Settings!$B$3,1,Settings!$B$4),"Overdue","No package")))) | T7: =IF(OR($A7="",Settings!$B$3=""),"",IF(DATE(Settings!$B$3,2,1)>TODAY(),"",IF(SUM(R7)>0,IF($M7=0,"",IF(R7>=$M7+IF(AND(ISNUMBER(S7),S7>DATE(Settings!$B$3,2,Settings!$B$4)),ROUND($M7*Settings!$B$5/100,0),0),"Up to date",IF(TODAY()>DATE(Settings!$B$3,2,Settings!$B$4),"Overdue","Partial payment"))),IF(TODAY()>DATE(Settings!$B$3,2,Settings!$B$4),"Overdue","No package")))) | W7: =IF(OR($A7="",Settings!$B$3=""),"",IF(DATE(Settings!$B$3,3,1)>TODAY(),"",IF(SUM(U7)>0,IF($M7=0,"",IF(U7>=$M7+IF(AND(ISNUMBER(V7),V7>DATE(Settings!$B$3,3,Settings!$B$4)),ROUND($M7*Settings!$B$5/100,0),0),"Up to date",IF(TODAY()>DATE(Settings!$B$3,3,Settings!$B$4),"Overdue","Partial payment"))),IF(TODAY()>DATE(Settings!$B$3,3,Settings!$B$4),"Overdue","No package")))) | Z7: =IF(OR($A7="",Settings!$B$3=""),"",IF(DATE(Settings!$B$3,4,1)>TODAY(),"",IF(SUM(X7)>0,IF($M7=0,"",IF(X7>=$M7+IF(AND(ISNUMBER(Y7),Y7>DATE(Settings!$B$3,4,Settings!$B$4)),ROUND($M7*Settings!$B$5/100,0),0),"Up to date",IF(TODAY()>DATE(Settings!$B$3,4,Settings!$B$4),"Overdue","Partial payment"))),IF(TODAY()>DATE(Settings!$B$3,4,Settings!$B$4),"Overdue","No package")))) | AC7: =IF(OR($A7="",Settings!$B$3=""),"",IF(DATE(Settings!$B$3,5,1)>TODAY(),"",IF(SUM(AA7)>0,IF($M7=0,"",IF(AA7>=$M7+IF(AND(ISNUMBER(AB7),AB7>DATE(Settings!$B$3,5,Settings!$B$4)),ROUND($M7*Settings!$B$5/100,0),0),"Up to date",IF(TODAY()>DATE(Settings!$B$3,5,Settings!$B$4),"Overdue","Partial payment"))),IF(TODAY()>DATE(Settings!$B$3,5,Settings!$B$4),"Overdue","No package")))) | AF7: =IF(OR($A7="",Settings!$B$3=""),"",IF(DATE(Settings!$B$3,6,1)>TODAY(),"",IF(SUM(AD7)>0,IF($M7=0,"",IF(AD7>=$M7+IF(AND(ISNUMBER(AE7),AE7>DATE(Settings!$B$3,6,Settings!$B$4)),ROUND($M7*Settings!$B$5/100,0),0),"Up to date",IF(TODAY()>DATE(Settings!$B$3,6,Settings!$B$4),"Overdue","Partial payment"))),IF(TODAY()>DATE(Settings!$B$3,6,Settings!$B$4),"Overdue","No package")))) | AI7: =IF(OR($A7="",Settings!$B$3=""),"",IF(DATE(Settings!$B$3,7,1)>TODAY(),"",IF(SUM(AG7)>0,IF($M7=0,"",IF(AG7>=$M7+IF(AND(ISNUMBER(AH7),AH7>DATE(Settings!$B$3,7,Settings!$B$4)),ROUND($M7*Settings!$B$5/100,0),0),"Up to date",IF(TODAY()>DATE(Settings!$B$3,7,Settings!$B$4),"Overdue","Partial payment"))),IF(TODAY()>DATE(Settings!$B$3,7,Settings!$B$4),"Overdue","No package")))) | AL7: =IF(OR($A7="",Settings!$B$3=""),"",IF(DATE(Settings!$B$3,8,1)>TODAY(),"",IF(SUM(AJ7)>0,IF($M7=0,"",IF(AJ7>=$M7+IF(AND(ISNUMBER(AK7),AK7>DATE(Settings!$B$3,8,Settings!$B$4)),ROUND($M7*Settings!$B$5/100,0),0),"Up to date",IF(TODAY()>DATE(Settings!$B$3,8,Settings!$B$4),"Overdue","Partial payment"))),IF(TODAY()>DATE(Settings!$B$3,8,Settings!$B$4),"Overdue","No package")))) | AO7: =IF(OR($A7="",Settings!$B$3=""),"",IF(DATE(Settings!$B$3,9,1)>TODAY(),"",IF(SUM(AM7)>0,IF($M7=0,"",IF(AM7>=$M7+IF(AND(ISNUMBER(AN7),AN7>DATE(Settings!$B$3,9,Settings!$B$4)),ROUND($M7*Settings!$B$5/100,0),0),"Up to date",IF(TODAY()>DATE(Settings!$B$3,9,Settings!$B$4),"Overdue","Partial payment"))),IF(TODAY()>DATE(Settings!$B$3,9,Settings!$B$4),"Overdue","No package")))) | AR7: =IF(OR($A7="",Settings!$B$3=""),"",IF(DATE(Settings!$B$3,10,1)>TODAY(),"",IF(SUM(AP7)>0,IF($M7=0,"",IF(AP7>=$M7+IF(AND(ISNUMBER(AQ7),AQ7>DATE(Settings!$B$3,10,Settings!$B$4)),ROUND($M7*Settings!$B$5/100,0),0),"Up to date",IF(TODAY()>DATE(Settings!$B$3,10,Settings!$B$4),"Overdue","Partial payment"))),IF(TODAY()>DATE(Settings!$B$3,10,Settings!$B$4),"Overdue","No package")))) | AU7: =IF(OR($A7="",Settings!$B$3=""),"",IF(DATE(Settings!$B$3,11,1)>TODAY(),"",IF(SUM(AS7)>0,IF($M7=0,"",IF(AS7>=$M7+IF(AND(ISNUMBER(AT7),AT7>DATE(Settings!$B$3,11,Settings!$B$4)),ROUND($M7*Settings!$B$5/100,0),0),"Up to date",IF(TODAY()>DATE(Settings!$B$3,11,Settings!$B$4),"Overdue","Partial payment"))),IF(TODAY()>DATE(Settings!$B$3,11,Settings!$B$4),"Overdue","No package")))) | AX7: =IF(OR($A7="",Settings!$B$3=""),"",IF(DATE(Settings!$B$3,12,1)>TODAY(),"",IF(SUM(AV7)>0,IF($M7=0,"",IF(AV7>=$M7+IF(AND(ISNUMBER(AW7),AW7>DATE(Settings!$B$3,12,Settings!$B$4)),ROUND($M7*Settings!$B$5/100,0),0),"Up to date",IF(TODAY()>DATE(Settings!$B$3,12,Settings!$B$4),"Overdue","Partial payment"))),IF(TODAY()>DATE(Settings!$B$3,12,Settings!$B$4),"Overdue","No package"))))
M8: =IF($A8="","",IFERROR(VLOOKUP($L8,Settings!$A$9:$B$14,2,FALSE),0)) | N8: =IF($A8="","",IF(Q8="Overdue",1,0)+IF(T8="Overdue",1,0)+IF(W8="Overdue",1,0)+IF(Z8="Overdue",1,0)+IF(AC8="Overdue",1,0)+IF(AF8="Overdue",1,0)+IF(AI8="Overdue",1,0)+IF(AL8="Overdue",1,0)+IF(AO8="Overdue",1,0)+IF(AR8="Overdue",1,0)+IF(AU8="Overdue",1,0)+IF(AX8="Overdue",1,0)) | Q8: =IF(OR($A8="",Settings!$B$3=""),"",IF(DATE(Settings!$B$3,1,1)>TODAY(),"",IF(SUM(O8)>0,IF($M8=0,"",IF(O8>=$M8+IF(AND(ISNUMBER(P8),P8>DATE(Settings!$B$3,1,Settings!$B$4)),ROUND($M8*Settings!$B$5/100,0),0),"Up to date",IF(TODAY()>DATE(Settings!$B$3,1,Settings!$B$4),"Overdue","Partial payment"))),IF(TODAY()>DATE(Settings!$B$3,1,Settings!$B$4),"Overdue","No package")))) | T8: =IF(OR($A8="",Settings!$B$3=""),"",IF(DATE(Settings!$B$3,2,1)>TODAY(),"",IF(SUM(R8)>0,IF($M8=0,"",IF(R8>=$M8+IF(AND(ISNUMBER(S8),S8>DATE(Settings!$B$3,2,Settings!$B$4)),ROUND($M8*Settings!$B$5/100,0),0),"Up to date",IF(TODAY()>DATE(Settings!$B$3,2,Settings!$B$4),"Overdue","Partial payment"))),IF(TODAY()>DATE(Settings!$B$3,2,Settings!$B$4),"Overdue","No package")))) | W8: =IF(OR($A8="",Settings!$B$3=""),"",IF(DATE(Settings!$B$3,3,1)>TODAY(),"",IF(SUM(U8)>0,IF($M8=0,"",IF(U8>=$M8+IF(AND(ISNUMBER(V8),V8>DATE(Settings!$B$3,3,Settings!$B$4)),ROUND($M8*Settings!$B$5/100,0),0),"Up to date",IF(TODAY()>DATE(Settings!$B$3,3,Settings!$B$4),"Overdue","Partial payment"))),IF(TODAY()>DATE(Settings!$B$3,3,Settings!$B$4),"Overdue","No package")))) | Z8: =IF(OR($A8="",Settings!$B$3=""),"",IF(DATE(Settings!$B$3,4,1)>TODAY(),"",IF(SUM(X8)>0,IF($M8=0,"",IF(X8>=$M8+IF(AND(ISNUMBER(Y8),Y8>DATE(Settings!$B$3,4,Settings!$B$4)),ROUND($M8*Settings!$B$5/100,0),0),"Up to date",IF(TODAY()>DATE(Settings!$B$3,4,Settings!$B$4),"Overdue","Partial payment"))),IF(TODAY()>DATE(Settings!$B$3,4,Settings!$B$4),"Overdue","No package")))) | AC8: =IF(OR($A8="",Settings!$B$3=""),"",IF(DATE(Settings!$B$3,5,1)>TODAY(),"",IF(SUM(AA8)>0,IF($M8=0,"",IF(AA8>=$M8+IF(AND(ISNUMBER(AB8),AB8>DATE(Settings!$B$3,5,Settings!$B$4)),ROUND($M8*Settings!$B$5/100,0),0),"Up to date",IF(TODAY()>DATE(Settings!$B$3,5,Settings!$B$4),"Overdue","Partial payment"))),IF(TODAY()>DATE(Settings!$B$3,5,Settings!$B$4),"Overdue","No package")))) | AF8: =IF(OR($A8="",Settings!$B$3=""),"",IF(DATE(Settings!$B$3,6,1)>TODAY(),"",IF(SUM(AD8)>0,IF($M8=0,"",IF(AD8>=$M8+IF(AND(ISNUMBER(AE8),AE8>DATE(Settings!$B$3,6,Settings!$B$4)),ROUND($M8*Settings!$B$5/100,0),0),"Up to date",IF(TODAY()>DATE(Settings!$B$3,6,Settings!$B$4),"Overdue","Partial payment"))),IF(TODAY()>DATE(Settings!$B$3,6,Settings!$B$4),"Overdue","No package")))) | AI8: =IF(OR($A8="",Settings!$B$3=""),"",IF(DATE(Settings!$B$3,7,1)>TODAY(),"",IF(SUM(AG8)>0,IF($M8=0,"",IF(AG8>=$M8+IF(AND(ISNUMBER(AH8),AH8>DATE(Settings!$B$3,7,Settings!$B$4)),ROUND($M8*Settings!$B$5/100,0),0),"Up to date",IF(TODAY()>DATE(Settings!$B$3,7,Settings!$B$4),"Overdue","Partial payment"))),IF(TODAY()>DATE(Settings!$B$3,7,Settings!$B$4),"Overdue","No package")))) | AL8: =IF(OR($A8="",Settings!$B$3=""),"",IF(DATE(Settings!$B$3,8,1)>TODAY(),"",IF(SUM(AJ8)>0,IF($M8=0,"",IF(AJ8>=$M8+IF(AND(ISNUMBER(AK8),AK8>DATE(Settings!$B$3,8,Settings!$B$4)),ROUND($M8*Settings!$B$5/100,0),0),"Up to date",IF(TODAY()>DATE(Settings!$B$3,8,Settings!$B$4),"Overdue","Partial payment"))),IF(TODAY()>DATE(Settings!$B$3,8,Settings!$B$4),"Overdue","No package")))) | AO8: =IF(OR($A8="",Settings!$B$3=""),"",IF(DATE(Settings!$B$3,9,1)>TODAY(),"",IF(SUM(AM8)>0,IF($M8=0,"",IF(AM8>=$M8+IF(AND(ISNUMBER(AN8),AN8>DATE(Settings!$B$3,9,Settings!$B$4)),ROUND($M8*Settings!$B$5/100,0),0),"Up to date",IF(TODAY()>DATE(Settings!$B$3,9,Settings!$B$4),"Overdue","Partial payment"))),IF(TODAY()>DATE(Settings!$B$3,9,Settings!$B$4),"Overdue","No package")))) | AR8: =IF(OR($A8="",Settings!$B$3=""),"",IF(DATE(Settings!$B$3,10,1)>TODAY(),"",IF(SUM(AP8)>0,IF($M8=0,"",IF(AP8>=$M8+IF(AND(ISNUMBER(AQ8),AQ8>DATE(Settings!$B$3,10,Settings!$B$4)),ROUND($M8*Settings!$B$5/100,0),0),"Up to date",IF(TODAY()>DATE(Settings!$B$3,10,Settings!$B$4),"Overdue","Partial payment"))),IF(TODAY()>DATE(Settings!$B$3,10,Settings!$B$4),"Overdue","No package")))) | AU8: =IF(OR($A8="",Settings!$B$3=""),"",IF(DATE(Settings!$B$3,11,1)>TODAY(),"",IF(SUM(AS8)>0,IF($M8=0,"",IF(AS8>=$M8+IF(AND(ISNUMBER(AT8),AT8>DATE(Settings!$B$3,11,Settings!$B$4)),ROUND($M8*Settings!$B$5/100,0),0),"Up to date",IF(TODAY()>DATE(Settings!$B$3,11,Settings!$B$4),"Overdue","Partial payment"))),IF(TODAY()>DATE(Settings!$B$3,11,Settings!$B$4),"Overdue","No package")))) | AX8: =IF(OR($A8="",Settings!$B$3=""),"",IF(DATE(Settings!$B$3,12,1)>TODAY(),"",IF(SUM(AV8)>0,IF($M8=0,"",IF(AV8>=$M8+IF(AND(ISNUMBER(AW8),AW8>DATE(Settings!$B$3,12,Settings!$B$4)),ROUND($M8*Settings!$B$5/100,0),0),"Up to date",IF(TODAY()>DATE(Settings!$B$3,12,Settings!$B$4),"Overdue","Partial payment"))),IF(TODAY()>DATE(Settings!$B$3,12,Settings!$B$4),"Overdue","No package"))))
M9: =IF($A9="","",IFERROR(VLOOKUP($L9,Settings!$A$9:$B$14,2,FALSE),0)) | N9: =IF($A9="","",IF(Q9="Overdue",1,0)+IF(T9="Overdue",1,0)+IF(W9="Overdue",1,0)+IF(Z9="Overdue",1,0)+IF(AC9="Overdue",1,0)+IF(AF9="Overdue",1,0)+IF(AI9="Overdue",1,0)+IF(AL9="Overdue",1,0)+IF(AO9="Overdue",1,0)+IF(AR9="Overdue",1,0)+IF(AU9="Overdue",1,0)+IF(AX9="Overdue",1,0)) | Q9: =IF(OR($A9="",Settings!$B$3=""),"",IF(DATE(Settings!$B$3,1,1)>TODAY(),"",IF(SUM(O9)>0,IF($M9=0,"",IF(O9>=$M9+IF(AND(ISNUMBER(P9),P9>DATE(Settings!$B$3,1,Settings!$B$4)),ROUND($M9*Settings!$B$5/100,0),0),"Up to date",IF(TODAY()>DATE(Settings!$B$3,1,Settings!$B$4),"Overdue","Partial payment"))),IF(TODAY()>DATE(Settings!$B$3,1,Settings!$B$4),"Overdue","No package")))) | T9: =IF(OR($A9="",Settings!$B$3=""),"",IF(DATE(Settings!$B$3,2,1)>TODAY(),"",IF(SUM(R9)>0,IF($M9=0,"",IF(R9>=$M9+IF(AND(ISNUMBER(S9),S9>DATE(Settings!$B$3,2,Settings!$B$4)),ROUND($M9*Settings!$B$5/100,0),0),"Up to date",IF(TODAY()>DATE(Settings!$B$3,2,Settings!$B$4),"Overdue","Partial payment"))),IF(TODAY()>DATE(Settings!$B$3,2,Settings!$B$4),"Overdue","No package")))) | W9: =IF(OR($A9="",Settings!$B$3=""),"",IF(DATE(Settings!$B$3,3,1)>TODAY(),"",IF(SUM(U9)>0,IF($M9=0,"",IF(U9>=$M9+IF(AND(ISNUMBER(V9),V9>DATE(Settings!$B$3,3,Settings!$B$4)),ROUND($M9*Settings!$B$5/100,0),0),"Up to date",IF(TODAY()>DATE(Settings!$B$3,3,Settings!$B$4),"Overdue","Partial payment"))),IF(TODAY()>DATE(Settings!$B$3,3,Settings!$B$4),"Overdue","No package")))) | Z9: =IF(OR($A9="",Settings!$B$3=""),"",IF(DATE(Settings!$B$3,4,1)>TODAY(),"",IF(SUM(X9)>0,IF($M9=0,"",IF(X9>=$M9+IF(AND(ISNUMBER(Y9),Y9>DATE(Settings!$B$3,4,Settings!$B$4)),ROUND($M9*Settings!$B$5/100,0),0),"Up to date",IF(TODAY()>DATE(Settings!$B$3,4,Settings!$B$4),"Overdue","Partial payment"))),IF(TODAY()>DATE(Settings!$B$3,4,Settings!$B$4),"Overdue","No package")))) | AC9: =IF(OR($A9="",Settings!$B$3=""),"",IF(DATE(Settings!$B$3,5,1)>TODAY(),"",IF(SUM(AA9)>0,IF($M9=0,"",IF(AA9>=$M9+IF(AND(ISNUMBER(AB9),AB9>DATE(Settings!$B$3,5,Settings!$B$4)),ROUND($M9*Settings!$B$5/100,0),0),"Up to date",IF(TODAY()>DATE(Settings!$B$3,5,Settings!$B$4),"Overdue","Partial payment"))),IF(TODAY()>DATE(Settings!$B$3,5,Settings!$B$4),"Overdue","No package")))) | AF9: =IF(OR($A9="",Settings!$B$3=""),"",IF(DATE(Settings!$B$3,6,1)>TODAY(),"",IF(SUM(AD9)>0,IF($M9=0,"",IF(AD9>=$M9+IF(AND(ISNUMBER(AE9),AE9>DATE(Settings!$B$3,6,Settings!$B$4)),ROUND($M9*Settings!$B$5/100,0),0),"Up to date",IF(TODAY()>DATE(Settings!$B$3,6,Settings!$B$4),"Overdue","Partial payment"))),IF(TODAY()>DATE(Settings!$B$3,6,Settings!$B$4),"Overdue","No package")))) | AI9: =IF(OR($A9="",Settings!$B$3=""),"",IF(DATE(Settings!$B$3,7,1)>TODAY(),"",IF(SUM(AG9)>0,IF($M9=0,"",IF(AG9>=$M9+IF(AND(ISNUMBER(AH9),AH9>DATE(Settings!$B$3,7,Settings!$B$4)),ROUND($M9*Settings!$B$5/100,0),0),"Up to date",IF(TODAY()>DATE(Settings!$B$3,7,Settings!$B$4),"Overdue","Partial payment"))),IF(TODAY()>DATE(Settings!$B$3,7,Settings!$B$4),"Overdue","No package")))) | AL9: =IF(OR($A9="",Settings!$B$3=""),"",IF(DATE(Settings!$B$3,8,1)>TODAY(),"",IF(SUM(AJ9)>0,IF($M9=0,"",IF(AJ9>=$M9+IF(AND(ISNUMBER(AK9),AK9>DATE(Settings!$B$3,8,Settings!$B$4)),ROUND($M9*Settings!$B$5/100,0),0),"Up to date",IF(TODAY()>DATE(Settings!$B$3,8,Settings!$B$4),"Overdue","Partial payment"))),IF(TODAY()>DATE(Settings!$B$3,8,Settings!$B$4),"Overdue","No package")))) | AO9: =IF(OR($A9="",Settings!$B$3=""),"",IF(DATE(Settings!$B$3,9,1)>TODAY(),"",IF(SUM(AM9)>0,IF($M9=0,"",IF(AM9>=$M9+IF(AND(ISNUMBER(AN9),AN9>DATE(Settings!$B$3,9,Settings!$B$4)),ROUND($M9*Settings!$B$5/100,0),0),"Up to date",IF(TODAY()>DATE(Settings!$B$3,9,Settings!$B$4),"Overdue","Partial payment"))),IF(TODAY()>DATE(Settings!$B$3,9,Settings!$B$4),"Overdue","No package")))) | AR9: =IF(OR($A9="",Settings!$B$3=""),"",IF(DATE(Settings!$B$3,10,1)>TODAY(),"",IF(SUM(AP9)>0,IF($M9=0,"",IF(AP9>=$M9+IF(AND(ISNUMBER(AQ9),AQ9>DATE(Settings!$B$3,10,Settings!$B$4)),ROUND($M9*Settings!$B$5/100,0),0),"Up to date",IF(TODAY()>DATE(Settings!$B$3,10,Settings!$B$4),"Overdue","Partial payment"))),IF(TODAY()>DATE(Settings!$B$3,10,Settings!$B$4),"Overdue","No package")))) | AU9: =IF(OR($A9="",Settings!$B$3=""),"",IF(DATE(Settings!$B$3,11,1)>TODAY(),"",IF(SUM(AS9)>0,IF($M9=0,"",IF(AS9>=$M9+IF(AND(ISNUMBER(AT9),AT9>DATE(Settings!$B$3,11,Settings!$B$4)),ROUND($M9*Settings!$B$5/100,0),0),"Up to date",IF(TODAY()>DATE(Settings!$B$3,11,Settings!$B$4),"Overdue","Partial payment"))),IF(TODAY()>DATE(Settings!$B$3,11,Settings!$B$4),"Overdue","No package")))) | AX9: =IF(OR($A9="",Settings!$B$3=""),"",IF(DATE(Settings!$B$3,12,1)>TODAY(),"",IF(SUM(AV9)>0,IF($M9=0,"",IF(AV9>=$M9+IF(AND(ISNUMBER(AW9),AW9>DATE(Settings!$B$3,12,Settings!$B$4)),ROUND($M9*Settings!$B$5/100,0),0),"Up to date",IF(TODAY()>DATE(Settings!$B$3,12,Settings!$B$4),"Overdue","Partial payment"))),IF(TODAY()>DATE(Settings!$B$3,12,Settings!$B$4),"Overdue","No package"))))
M10: =IF($A10="","",IFERROR(VLOOKUP($L10,Settings!$A$9:$B$14,2,FALSE),0)) | N10: =IF($A10="","",IF(Q10="Overdue",1,0)+IF(T10="Overdue",1,0)+IF(W10="Overdue",1,0)+IF(Z10="Overdue",1,0)+IF(AC10="Overdue",1,0)+IF(AF10="Overdue",1,0)+IF(AI10="Overdue",1,0)+IF(AL10="Overdue",1,0)+IF(AO10="Overdue",1,0)+IF(AR10="Overdue",1,0)+IF(AU10="Overdue",1,0)+IF(AX10="Overdue",1,0)) | Q10: =IF(OR($A10="",Settings!$B$3=""),"",IF(DATE(Settings!$B$3,1,1)>TODAY(),"",IF(SUM(O10)>0,IF($M10=0,"",IF(O10>=$M10+IF(AND(ISNUMBER(P10),P10>DATE(Settings!$B$3,1,Settings!$B$4)),ROUND($M10*Settings!$B$5/100,0),0),"Up to date",IF(TODAY()>DATE(Settings!$B$3,1,Settings!$B$4),"Overdue","Partial payment"))),IF(TODAY()>DATE(Settings!$B$3,1,Settings!$B$4),"Overdue","No package")))) | T10: =IF(OR($A10="",Settings!$B$3=""),"",IF(DATE(Settings!$B$3,2,1)>TODAY(),"",IF(SUM(R10)>0,IF($M10=0,"",IF(R10>=$M10+IF(AND(ISNUMBER(S10),S10>DATE(Settings!$B$3,2,Settings!$B$4)),ROUND($M10*Settings!$B$5/100,0),0),"Up to date",IF(TODAY()>DATE(Settings!$B$3,2,Settings!$B$4),"Overdue","Partial payment"))),IF(TODAY()>DATE(Settings!$B$3,2,Settings!$B$4),"Overdue","No package")))) | W10: =IF(OR($A10="",Settings!$B$3=""),"",IF(DATE(Settings!$B$3,3,1)>TODAY(),"",IF(SUM(U10)>0,IF($M10=0,"",IF(U10>=$M10+IF(AND(ISNUMBER(V10),V10>DATE(Settings!$B$3,3,Settings!$B$4)),ROUND($M10*Settings!$B$5/100,0),0),"Up to date",IF(TODAY()>DATE(Settings!$B$3,3,Settings!$B$4),"Overdue","Partial payment"))),IF(TODAY()>DATE(Settings!$B$3,3,Settings!$B$4),"Overdue","No package")))) | Z10: =IF(OR($A10="",Settings!$B$3=""),"",IF(DATE(Settings!$B$3,4,1)>TODAY(),"",IF(SUM(X10)>0,IF($M10=0,"",IF(X10>=$M10+IF(AND(ISNUMBER(Y10),Y10>DATE(Settings!$B$3,4,Settings!$B$4)),ROUND($M10*Settings!$B$5/100,0),0),"Up to date",IF(TODAY()>DATE(Settings!$B$3,4,Settings!$B$4),"Overdue","Partial payment"))),IF(TODAY()>DATE(Settings!$B$3,4,Settings!$B$4),"Overdue","No package")))) | AC10: =IF(OR($A10="",Settings!$B$3=""),"",IF(DATE(Settings!$B$3,5,1)>TODAY(),"",IF(SUM(AA10)>0,IF($M10=0,"",IF(AA10>=$M10+IF(AND(ISNUMBER(AB10),AB10>DATE(Settings!$B$3,5,Settings!$B$4)),ROUND($M10*Settings!$B$5/100,0),0),"Up to date",IF(TODAY()>DATE(Settings!$B$3,5,Settings!$B$4),"Overdue","Partial payment"))),IF(TODAY()>DATE(Settings!$B$3,5,Settings!$B$4),"Overdue","No package")))) | AF10: =IF(OR($A10="",Settings!$B$3=""),"",IF(DATE(Settings!$B$3,6,1)>TODAY(),"",IF(SUM(AD10)>0,IF($M10=0,"",IF(AD10>=$M10+IF(AND(ISNUMBER(AE10),AE10>DATE(Settings!$B$3,6,Settings!$B$4)),ROUND($M10*Settings!$B$5/100,0),0),"Up to date",IF(TODAY()>DATE(Settings!$B$3,6,Settings!$B$4),"Overdue","Partial payment"))),IF(TODAY()>DATE(Settings!$B$3,6,Settings!$B$4),"Overdue","No package")))) | AI10: =IF(OR($A10="",Settings!$B$3=""),"",IF(DATE(Settings!$B$3,7,1)>TODAY(),"",IF(SUM(AG10)>0,IF($M10=0,"",IF(AG10>=$M10+IF(AND(ISNUMBER(AH10),AH10>DATE(Settings!$B$3,7,Settings!$B$4)),ROUND($M10*Settings!$B$5/100,0),0),"Up to date",IF(TODAY()>DATE(Settings!$B$3,7,Settings!$B$4),"Overdue","Partial payment"))),IF(TODAY()>DATE(Settings!$B$3,7,Settings!$B$4),"Overdue","No package")))) | AL10: =IF(OR($A10="",Settings!$B$3=""),"",IF(DATE(Settings!$B$3,8,1)>TODAY(),"",IF(SUM(AJ10)>0,IF($M10=0,"",IF(AJ10>=$M10+IF(AND(ISNUMBER(AK10),AK10>DATE(Settings!$B$3,8,Settings!$B$4)),ROUND($M10*Settings!$B$5/100,0),0),"Up to date",IF(TODAY()>DATE(Settings!$B$3,8,Settings!$B$4),"Overdue","Partial payment"))),IF(TODAY()>DATE(Settings!$B$3,8,Settings!$B$4),"Overdue","No package")))) | AO10: =IF(OR($A10="",Settings!$B$3=""),"",IF(DATE(Settings!$B$3,9,1)>TODAY(),"",IF(SUM(AM10)>0,IF($M10=0,"",IF(AM10>=$M10+IF(AND(ISNUMBER(AN10),AN10>DATE(Settings!$B$3,9,Settings!$B$4)),ROUND($M10*Settings!$B$5/100,0),0),"Up to date",IF(TODAY()>DATE(Settings!$B$3,9,Settings!$B$4),"Overdue","Partial payment"))),IF(TODAY()>DATE(Settings!$B$3,9,Settings!$B$4),"Overdue","No package")))) | AR10: =IF(OR($A10="",Settings!$B$3=""),"",IF(DATE(Settings!$B$3,10,1)>TODAY(),"",IF(SUM(AP10)>0,IF($M10=0,"",IF(AP10>=$M10+IF(AND(ISNUMBER(AQ10),AQ10>DATE(Settings!$B$3,10,Settings!$B$4)),ROUND($M10*Settings!$B$5/100,0),0),"Up to date",IF(TODAY()>DATE(Settings!$B$3,10,Settings!$B$4),"Overdue","Partial payment"))),IF(TODAY()>DATE(Settings!$B$3,10,Settings!$B$4),"Overdue","No package")))) | AU10: =IF(OR($A10="",Settings!$B$3=""),"",IF(DATE(Settings!$B$3,11,1)>TODAY(),"",IF(SUM(AS10)>0,IF($M10=0,"",IF(AS10>=$M10+IF(AND(ISNUMBER(AT10),AT10>DATE(Settings!$B$3,11,Settings!$B$4)),ROUND($M10*Settings!$B$5/100,0),0),"Up to date",IF(TODAY()>DATE(Settings!$B$3,11,Settings!$B$4),"Overdue","Partial payment"))),IF(TODAY()>DATE(Settings!$B$3,11,Settings!$B$4),"Overdue","No package")))) | AX10: =IF(OR($A10="",Settings!$B$3=""),"",IF(DATE(Settings!$B$3,12,1)>TODAY(),"",IF(SUM(AV10)>0,IF($M10=0,"",IF(AV10>=$M10+IF(AND(ISNUMBER(AW10),AW10>DATE(Settings!$B$3,12,Settings!$B$4)),ROUND($M10*Settings!$B$5/100,0),0),"Up to date",IF(TODAY()>DATE(Settings!$B$3,12,Settings!$B$4),"Overdue","Partial payment"))),IF(TODAY()>DATE(Settings!$B$3,12,Settings!$B$4),"Overdue","No package"))))
M11: =IF($A11="","",IFERROR(VLOOKUP($L11,Settings!$A$9:$B$14,2,FALSE),0)) | N11: =IF($A11="","",IF(Q11="Overdue",1,0)+IF(T11="Overdue",1,0)+IF(W11="Overdue",1,0)+IF(Z11="Overdue",1,0)+IF(AC11="Overdue",1,0)+IF(AF11="Overdue",1,0)+IF(AI11="Overdue",1,0)+IF(AL11="Overdue",1,0)+IF(AO11="Overdue",1,0)+IF(AR11="Overdue",1,0)+IF(AU11="Overdue",1,0)+IF(AX11="Overdue",1,0)) | Q11: =IF(OR($A11="",Settings!$B$3=""),"",IF(DATE(Settings!$B$3,1,1)>TODAY(),"",IF(SUM(O11)>0,IF($M11=0,"",IF(O11>=$M11+IF(AND(ISNUMBER(P11),P11>DATE(Settings!$B$3,1,Settings!$B$4)),ROUND($M11*Settings!$B$5/100,0),0),"Up to date",IF(TODAY()>DATE(Settings!$B$3,1,Settings!$B$4),"Overdue","Partial payment"))),IF(TODAY()>DATE(Settings!$B$3,1,Settings!$B$4),"Overdue","No package")))) | T11: =IF(OR($A11="",Settings!$B$3=""),"",IF(DATE(Settings!$B$3,2,1)>TODAY(),"",IF(SUM(R11)>0,IF($M11=0,"",IF(R11>=$M11+IF(AND(ISNUMBER(S11),S11>DATE(Settings!$B$3,2,Settings!$B$4)),ROUND($M11*Settings!$B$5/100,0),0),"Up to date",IF(TODAY()>DATE(Settings!$B$3,2,Settings!$B$4),"Overdue","Partial payment"))),IF(TODAY()>DATE(Settings!$B$3,2,Settings!$B$4),"Overdue","No package")))) | W11: =IF(OR($A11="",Settings!$B$3=""),"",IF(DATE(Settings!$B$3,3,1)>TODAY(),"",IF(SUM(U11)>0,IF($M11=0,"",IF(U11>=$M11+IF(AND(ISNUMBER(V11),V11>DATE(Settings!$B$3,3,Settings!$B$4)),ROUND($M11*Settings!$B$5/100,0),0),"Up to date",IF(TODAY()>DATE(Settings!$B$3,3,Settings!$B$4),"Overdue","Partial payment"))),IF(TODAY()>DATE(Settings!$B$3,3,Settings!$B$4),"Overdue","No package")))) | Z11: =IF(OR($A11="",Settings!$B$3=""),"",IF(DATE(Settings!$B$3,4,1)>TODAY(),"",IF(SUM(X11)>0,IF($M11=0,"",IF(X11>=$M11+IF(AND(ISNUMBER(Y11),Y11>DATE(Settings!$B$3,4,Settings!$B$4)),ROUND($M11*Settings!$B$5/100,0),0),"Up to date",IF(TODAY()>DATE(Settings!$B$3,4,Settings!$B$4),"Overdue","Partial payment"))),IF(TODAY()>DATE(Settings!$B$3,4,Settings!$B$4),"Overdue","No package")))) | AC11: =IF(OR($A11="",Settings!$B$3=""),"",IF(DATE(Settings!$B$3,5,1)>TODAY(),"",IF(SUM(AA11)>0,IF($M11=0,"",IF(AA11>=$M11+IF(AND(ISNUMBER(AB11),AB11>DATE(Settings!$B$3,5,Settings!$B$4)),ROUND($M11*Settings!$B$5/100,0),0),"Up to date",IF(TODAY()>DATE(Settings!$B$3,5,Settings!$B$4),"Overdue","Partial payment"))),IF(TODAY()>DATE(Settings!$B$3,5,Settings!$B$4),"Overdue","No package")))) | AF11: =IF(OR($A11="",Settings!$B$3=""),"",IF(DATE(Settings!$B$3,6,1)>TODAY(),"",IF(SUM(AD11)>0,IF($M11=0,"",IF(AD11>=$M11+IF(AND(ISNUMBER(AE11),AE11>DATE(Settings!$B$3,6,Settings!$B$4)),ROUND($M11*Settings!$B$5/100,0),0),"Up to date",IF(TODAY()>DATE(Settings!$B$3,6,Settings!$B$4),"Overdue","Partial payment"))),IF(TODAY()>DATE(Settings!$B$3,6,Settings!$B$4),"Overdue","No package")))) | AI11: =IF(OR($A11="",Settings!$B$3=""),"",IF(DATE(Settings!$B$3,7,1)>TODAY(),"",IF(SUM(AG11)>0,IF($M11=0,"",IF(AG11>=$M11+IF(AND(ISNUMBER(AH11),AH11>DATE(Settings!$B$3,7,Settings!$B$4)),ROUND($M11*Settings!$B$5/100,0),0),"Up to date",IF(TODAY()>DATE(Settings!$B$3,7,Settings!$B$4),"Overdue","Partial payment"))),IF(TODAY()>DATE(Settings!$B$3,7,Settings!$B$4),"Overdue","No package")))) | AL11: =IF(OR($A11="",Settings!$B$3=""),"",IF(DATE(Settings!$B$3,8,1)>TODAY(),"",IF(SUM(AJ11)>0,IF($M11=0,"",IF(AJ11>=$M11+IF(AND(ISNUMBER(AK11),AK11>DATE(Settings!$B$3,8,Settings!$B$4)),ROUND($M11*Settings!$B$5/100,0),0),"Up to date",IF(TODAY()>DATE(Settings!$B$3,8,Settings!$B$4),"Overdue","Partial payment"))),IF(TODAY()>DATE(Settings!$B$3,8,Settings!$B$4),"Overdue","No package")))) | AO11: =IF(OR($A11="",Settings!$B$3=""),"",IF(DATE(Settings!$B$3,9,1)>TODAY(),"",IF(SUM(AM11)>0,IF($M11=0,"",IF(AM11>=$M11+IF(AND(ISNUMBER(AN11),AN11>DATE(Settings!$B$3,9,Settings!$B$4)),ROUND($M11*Settings!$B$5/100,0),0),"Up to date",IF(TODAY()>DATE(Settings!$B$3,9,Settings!$B$4),"Overdue","Partial payment"))),IF(TODAY()>DATE(Settings!$B$3,9,Settings!$B$4),"Overdue","No package")))) | AR11: =IF(OR($A11="",Settings!$B$3=""),"",IF(DATE(Settings!$B$3,10,1)>TODAY(),"",IF(SUM(AP11)>0,IF($M11=0,"",IF(AP11>=$M11+IF(AND(ISNUMBER(AQ11),AQ11>DATE(Settings!$B$3,10,Settings!$B$4)),ROUND($M11*Settings!$B$5/100,0),0),"Up to date",IF(TODAY()>DATE(Settings!$B$3,10,Settings!$B$4),"Overdue","Partial payment"))),IF(TODAY()>DATE(Settings!$B$3,10,Settings!$B$4),"Overdue","No package")))) | AU11: =IF(OR($A11="",Settings!$B$3=""),"",IF(DATE(Settings!$B$3,11,1)>TODAY(),"",IF(SUM(AS11)>0,IF($M11=0,"",IF(AS11>=$M11+IF(AND(ISNUMBER(AT11),AT11>DATE(Settings!$B$3,11,Settings!$B$4)),ROUND($M11*Settings!$B$5/100,0),0),"Up to date",IF(TODAY()>DATE(Settings!$B$3,11,Settings!$B$4),"Overdue","Partial payment"))),IF(TODAY()>DATE(Settings!$B$3,11,Settings!$B$4),"Overdue","No package")))) | AX11: =IF(OR($A11="",Settings!$B$3=""),"",IF(DATE(Settings!$B$3,12,1)>TODAY(),"",IF(SUM(AV11)>0,IF($M11=0,"",IF(AV11>=$M11+IF(AND(ISNUMBER(AW11),AW11>DATE(Settings!$B$3,12,Settings!$B$4)),ROUND($M11*Settings!$B$5/100,0),0),"Up to date",IF(TODAY()>DATE(Settings!$B$3,12,Settings!$B$4),"Overdue","Partial payment"))),IF(TODAY()>DATE(Settings!$B$3,12,Settings!$B$4),"Overdue","No package"))))
M12: =IF($A12="","",IFERROR(VLOOKUP($L12,Settings!$A$9:$B$14,2,FALSE),0)) | N12: =IF($A12="","",IF(Q12="Overdue",1,0)+IF(T12="Overdue",1,0)+IF(W12="Overdue",1,0)+IF(Z12="Overdue",1,0)+IF(AC12="Overdue",1,0)+IF(AF12="Overdue",1,0)+IF(AI12="Overdue",1,0)+IF(AL12="Overdue",1,0)+IF(AO12="Overdue",1,0)+IF(AR12="Overdue",1,0)+IF(AU12="Overdue",1,0)+IF(AX12="Overdue",1,0)) | Q12: =IF(OR($A12="",Settings!$B$3=""),"",IF(DATE(Settings!$B$3,1,1)>TODAY(),"",IF(SUM(O12)>0,IF($M12=0,"",IF(O12>=$M12+IF(AND(ISNUMBER(P12),P12>DATE(Settings!$B$3,1,Settings!$B$4)),ROUND($M12*Settings!$B$5/100,0),0),"Up to date",IF(TODAY()>DATE(Settings!$B$3,1,Settings!$B$4),"Overdue","Partial payment"))),IF(TODAY()>DATE(Settings!$B$3,1,Settings!$B$4),"Overdue","No package")))) | T12: =IF(OR($A12="",Settings!$B$3=""),"",IF(DATE(Settings!$B$3,2,1)>TODAY(),"",IF(SUM(R12)>0,IF($M12=0,"",IF(R12>=$M12+IF(AND(ISNUMBER(S12),S12>DATE(Settings!$B$3,2,Settings!$B$4)),ROUND($M12*Settings!$B$5/100,0),0),"Up to date",IF(TODAY()>DATE(Settings!$B$3,2,Settings!$B$4),"Overdue","Partial payment"))),IF(TODAY()>DATE(Settings!$B$3,2,Settings!$B$4),"Overdue","No package")))) | W12: =IF(OR($A12="",Settings!$B$3=""),"",IF(DATE(Settings!$B$3,3,1)>TODAY(),"",IF(SUM(U12)>0,IF($M12=0,"",IF(U12>=$M12+IF(AND(ISNUMBER(V12),V12>DATE(Settings!$B$3,3,Settings!$B$4)),ROUND($M12*Settings!$B$5/100,0),0),"Up to date",IF(TODAY()>DATE(Settings!$B$3,3,Settings!$B$4),"Overdue","Partial payment"))),IF(TODAY()>DATE(Settings!$B$3,3,Settings!$B$4),"Overdue","No package")))) | Z12: =IF(OR($A12="",Settings!$B$3=""),"",IF(DATE(Settings!$B$3,4,1)>TODAY(),"",IF(SUM(X12)>0,IF($M12=0,"",IF(X12>=$M12+IF(AND(ISNUMBER(Y12),Y12>DATE(Settings!$B$3,4,Settings!$B$4)),ROUND($M12*Settings!$B$5/100,0),0),"Up to date",IF(TODAY()>DATE(Settings!$B$3,4,Settings!$B$4),"Overdue","Partial payment"))),IF(TODAY()>DATE(Settings!$B$3,4,Settings!$B$4),"Overdue","No package")))) | AC12: =IF(OR($A12="",Settings!$B$3=""),"",IF(DATE(Settings!$B$3,5,1)>TODAY(),"",IF(SUM(AA12)>0,IF($M12=0,"",IF(AA12>=$M12+IF(AND(ISNUMBER(AB12),AB12>DATE(Settings!$B$3,5,Settings!$B$4)),ROUND($M12*Settings!$B$5/100,0),0),"Up to date",IF(TODAY()>DATE(Settings!$B$3,5,Settings!$B$4),"Overdue","Partial payment"))),IF(TODAY()>DATE(Settings!$B$3,5,Settings!$B$4),"Overdue","No package")))) | AF12: =IF(OR($A12="",Settings!$B$3=""),"",IF(DATE(Settings!$B$3,6,1)>TODAY(),"",IF(SUM(AD12)>0,IF($M12=0,"",IF(AD12>=$M12+IF(AND(ISNUMBER(AE12),AE12>DATE(Settings!$B$3,6,Settings!$B$4)),ROUND($M12*Settings!$B$5/100,0),0),"Up to date",IF(TODAY()>DATE(Settings!$B$3,6,Settings!$B$4),"Overdue","Partial payment"))),IF(TODAY()>DATE(Settings!$B$3,6,Settings!$B$4),"Overdue","No package")))) | AI12: =IF(OR($A12="",Settings!$B$3=""),"",IF(DATE(Settings!$B$3,7,1)>TODAY(),"",IF(SUM(AG12)>0,IF($M12=0,"",IF(AG12>=$M12+IF(AND(ISNUMBER(AH12),AH12>DATE(Settings!$B$3,7,Settings!$B$4)),ROUND($M12*Settings!$B$5/100,0),0),"Up to date",IF(TODAY()>DATE(Settings!$B$3,7,Settings!$B$4),"Overdue","Partial payment"))),IF(TODAY()>DATE(Settings!$B$3,7,Settings!$B$4),"Overdue","No package")))) | AL12: =IF(OR($A12="",Settings!$B$3=""),"",IF(DATE(Settings!$B$3,8,1)>TODAY(),"",IF(SUM(AJ12)>0,IF($M12=0,"",IF(AJ12>=$M12+IF(AND(ISNUMBER(AK12),AK12>DATE(Settings!$B$3,8,Settings!$B$4)),ROUND($M12*Settings!$B$5/100,0),0),"Up to date",IF(TODAY()>DATE(Settings!$B$3,8,Settings!$B$4),"Overdue","Partial payment"))),IF(TODAY()>DATE(Settings!$B$3,8,Settings!$B$4),"Overdue","No package")))) | AO12: =IF(OR($A12="",Settings!$B$3=""),"",IF(DATE(Settings!$B$3,9,1)>TODAY(),"",IF(SUM(AM12)>0,IF($M12=0,"",IF(AM12>=$M12+IF(AND(ISNUMBER(AN12),AN12>DATE(Settings!$B$3,9,Settings!$B$4)),ROUND($M12*Settings!$B$5/100,0),0),"Up to date",IF(TODAY()>DATE(Settings!$B$3,9,Settings!$B$4),"Overdue","Partial payment"))),IF(TODAY()>DATE(Settings!$B$3,9,Settings!$B$4),"Overdue","No package")))) | AR12: =IF(OR($A12="",Settings!$B$3=""),"",IF(DATE(Settings!$B$3,10,1)>TODAY(),"",IF(SUM(AP12)>0,IF($M12=0,"",IF(AP12>=$M12+IF(AND(ISNUMBER(AQ12),AQ12>DATE(Settings!$B$3,10,Settings!$B$4)),ROUND($M12*Settings!$B$5/100,0),0),"Up to date",IF(TODAY()>DATE(Settings!$B$3,10,Settings!$B$4),"Overdue","Partial payment"))),IF(TODAY()>DATE(Settings!$B$3,10,Settings!$B$4),"Overdue","No package")))) | AU12: =IF(OR($A12="",Settings!$B$3=""),"",IF(DATE(Settings!$B$3,11,1)>TODAY(),"",IF(SUM(AS12)>0,IF($M12=0,"",IF(AS12>=$M12+IF(AND(ISNUMBER(AT12),AT12>DATE(Settings!$B$3,11,Settings!$B$4)),ROUND($M12*Settings!$B$5/100,0),0),"Up to date",IF(TODAY()>DATE(Settings!$B$3,11,Settings!$B$4),"Overdue","Partial payment"))),IF(TODAY()>DATE(Settings!$B$3,11,Settings!$B$4),"Overdue","No package")))) | AX12: =IF(OR($A12="",Settings!$B$3=""),"",IF(DATE(Settings!$B$3,12,1)>TODAY(),"",IF(SUM(AV12)>0,IF($M12=0,"",IF(AV12>=$M12+IF(AND(ISNUMBER(AW12),AW12>DATE(Settings!$B$3,12,Settings!$B$4)),ROUND($M12*Settings!$B$5/100,0),0),"Up to date",IF(TODAY()>DATE(Settings!$B$3,12,Settings!$B$4),"Overdue","Partial payment"))),IF(TODAY()>DATE(Settings!$B$3,12,Settings!$B$4),"Overdue","No package"))))
